BEGIN:VCALENDAR
VERSION:2.0
PRODID:-//NaturGut Cörmigk - ECPv6.15.18//NONSGML v1.0//EN
CALSCALE:GREGORIAN
METHOD:PUBLISH
X-ORIGINAL-URL:https://naturgut-coermigk.de
X-WR-CALDESC:Veranstaltungen für NaturGut Cörmigk
REFRESH-INTERVAL;VALUE=DURATION:PT1H
X-Robots-Tag:noindex
X-PUBLISHED-TTL:PT1H
BEGIN:VTIMEZONE
TZID:Europe/Berlin
BEGIN:DAYLIGHT
TZOFFSETFROM:+0100
TZOFFSETTO:+0200
TZNAME:CEST
DTSTART:20240331T010000
END:DAYLIGHT
BEGIN:STANDARD
TZOFFSETFROM:+0200
TZOFFSETTO:+0100
TZNAME:CET
DTSTART:20241027T010000
END:STANDARD
BEGIN:DAYLIGHT
TZOFFSETFROM:+0100
TZOFFSETTO:+0200
TZNAME:CEST
DTSTART:20250330T010000
END:DAYLIGHT
BEGIN:STANDARD
TZOFFSETFROM:+0200
TZOFFSETTO:+0100
TZNAME:CET
DTSTART:20251026T010000
END:STANDARD
BEGIN:DAYLIGHT
TZOFFSETFROM:+0100
TZOFFSETTO:+0200
TZNAME:CEST
DTSTART:20260329T010000
END:DAYLIGHT
BEGIN:STANDARD
TZOFFSETFROM:+0200
TZOFFSETTO:+0100
TZNAME:CET
DTSTART:20261025T010000
END:STANDARD
BEGIN:DAYLIGHT
TZOFFSETFROM:+0100
TZOFFSETTO:+0200
TZNAME:CEST
DTSTART:20270328T010000
END:DAYLIGHT
BEGIN:STANDARD
TZOFFSETFROM:+0200
TZOFFSETTO:+0100
TZNAME:CET
DTSTART:20271031T010000
END:STANDARD
END:VTIMEZONE
BEGIN:VEVENT
DTSTART;TZID=Europe/Berlin:20260404T140000
DTEND;TZID=Europe/Berlin:20260404T150000
DTSTAMP:20260421T104340
CREATED:20260311T191614Z
LAST-MODIFIED:20260311T191614Z
UID:1316-1775311200-1775314800@naturgut-coermigk.de
SUMMARY:Social Walk April
DESCRIPTION:
URL:https://naturgut-coermigk.de/termine/social-walk-april/
LOCATION:Friedhof Cörmigk
CATEGORIES:Social Walk
END:VEVENT
BEGIN:VEVENT
DTSTART;TZID=Europe/Berlin:20260307T100000
DTEND;TZID=Europe/Berlin:20260307T160000
DTSTAMP:20260421T104340
CREATED:20260112T205054Z
LAST-MODIFIED:20260112T205054Z
UID:1290-1772877600-1772899200@naturgut-coermigk.de
SUMMARY:Mitmach-Tag
DESCRIPTION:
URL:https://naturgut-coermigk.de/termine/mitmach-tag-4/
CATEGORIES:Mitmach-Tage
END:VEVENT
BEGIN:VEVENT
DTSTART;TZID=Europe/Berlin:20260131T100000
DTEND;TZID=Europe/Berlin:20260131T160000
DTSTAMP:20260421T104340
CREATED:20260112T204943Z
LAST-MODIFIED:20260124T112531Z
UID:1288-1769853600-1769875200@naturgut-coermigk.de
SUMMARY:Mitmach-Tag
DESCRIPTION:
URL:https://naturgut-coermigk.de/termine/mitmach-tag-3/
CATEGORIES:Mitmach-Tage
END:VEVENT
BEGIN:VEVENT
DTSTART;TZID=Europe/Berlin:20260112T100000
DTEND;TZID=Europe/Berlin:20260112T160000
DTSTAMP:20260421T104340
CREATED:20260112T205355Z
LAST-MODIFIED:20260112T205355Z
UID:1297-1768212000-1768233600@naturgut-coermigk.de
SUMMARY:Mitmach-Tag
DESCRIPTION:
URL:https://naturgut-coermigk.de/termine/mitmach-tag-7/
CATEGORIES:Mitmach-Tage
END:VEVENT
BEGIN:VEVENT
DTSTART;TZID=Europe/Berlin:20260112T100000
DTEND;TZID=Europe/Berlin:20260112T160000
DTSTAMP:20260421T104340
CREATED:20260112T205159Z
LAST-MODIFIED:20260112T205159Z
UID:1292-1768212000-1768233600@naturgut-coermigk.de
SUMMARY:Mitmach-Tag
DESCRIPTION:
URL:https://naturgut-coermigk.de/termine/mitmach-tag-5/
CATEGORIES:Mitmach-Tage
END:VEVENT
BEGIN:VEVENT
DTSTART;TZID=Europe/Berlin:20251129T140000
DTEND;TZID=Europe/Berlin:20251129T170000
DTSTAMP:20260421T104340
CREATED:20251123T174409Z
LAST-MODIFIED:20251123T174409Z
UID:1265-1764424800-1764435600@naturgut-coermigk.de
SUMMARY:Kleine Hofweihnacht
DESCRIPTION:Wenn die Tage kürzer werden und die ersten Schwibbögen leuchten\, ist es wieder Zeit für unsere Kleine Hofweihnacht auf dem NaturGut am 29.11.2025 (14-17 Uhr). Lasst euch von der festlichen Stimmung verzaubern\, während wir gemeinsam um 14:30 Uhr eine tierische Bescherung feiern. Und natürlich erwartet euch ein ganz besonderer Gast: Der Weihnachtsmann wird uns um 16:00 Uhr besuchen und bringt Freude für Groß und Klein. Wir freuen uns darauf\, diese besondere Zeit mit euch zu teilen!
URL:https://naturgut-coermigk.de/termine/kleine-hofweihnacht/
LOCATION:Naturgut Cörmigk
END:VEVENT
BEGIN:VEVENT
DTSTART;TZID=Europe/Berlin:20251122T100000
DTEND;TZID=Europe/Berlin:20251122T160000
DTSTAMP:20260421T104340
CREATED:20250216T210316Z
LAST-MODIFIED:20250217T105816Z
UID:1136-1763805600-1763827200@naturgut-coermigk.de
SUMMARY:Mitmach-Tag November
DESCRIPTION:
URL:https://naturgut-coermigk.de/termine/mitmach-tag-november/
LOCATION:Naturgut Cörmigk
CATEGORIES:Mitmach-Tage
END:VEVENT
BEGIN:VEVENT
DTSTART;TZID=Europe/Berlin:20251011T100000
DTEND;TZID=Europe/Berlin:20251011T150000
DTSTAMP:20260421T104340
CREATED:20250217T105900Z
LAST-MODIFIED:20250217T105900Z
UID:1198-1760176800-1760194800@naturgut-coermigk.de
SUMMARY:Familienkochen
DESCRIPTION:
URL:https://naturgut-coermigk.de/termine/familienkochen/
LOCATION:Naturgut Cörmigk
CATEGORIES:Familien-Kochen
END:VEVENT
BEGIN:VEVENT
DTSTART;TZID=Europe/Berlin:20251004T100000
DTEND;TZID=Europe/Berlin:20251004T120000
DTSTAMP:20260421T104340
CREATED:20250216T211742Z
LAST-MODIFIED:20250217T104940Z
UID:1158-1759572000-1759579200@naturgut-coermigk.de
SUMMARY:Kids-AG
DESCRIPTION:Ernten\, Kochen\, Essen- gemeinsam erkunden wir den Garten
URL:https://naturgut-coermigk.de/termine/kids-ag-6/
LOCATION:Naturgut Cörmigk
CATEGORIES:Kids-AG
END:VEVENT
BEGIN:VEVENT
DTSTART;TZID=Europe/Berlin:20250927T100000
DTEND;TZID=Europe/Berlin:20250927T160000
DTSTAMP:20260421T104340
CREATED:20250216T210240Z
LAST-MODIFIED:20250217T105804Z
UID:1134-1758967200-1758988800@naturgut-coermigk.de
SUMMARY:Mitmach-Tag September
DESCRIPTION:
URL:https://naturgut-coermigk.de/termine/mitmach-tag-september/
LOCATION:Naturgut Cörmigk
CATEGORIES:Mitmach-Tage
END:VEVENT
BEGIN:VEVENT
DTSTART;TZID=Europe/Berlin:20250920T100000
DTEND;TZID=Europe/Berlin:20250920T120000
DTSTAMP:20260421T104340
CREATED:20250217T105704Z
LAST-MODIFIED:20250217T105704Z
UID:1196-1758362400-1758369600@naturgut-coermigk.de
SUMMARY:Familien-Yoga
DESCRIPTION:
URL:https://naturgut-coermigk.de/termine/familien-yoga-9/
LOCATION:Naturgut Cörmigk
CATEGORIES:Familien-Yoga
END:VEVENT
BEGIN:VEVENT
DTSTART;TZID=Europe/Berlin:20250906T100000
DTEND;TZID=Europe/Berlin:20250906T120000
DTSTAMP:20260421T104340
CREATED:20250216T211715Z
LAST-MODIFIED:20250217T104956Z
UID:1156-1757152800-1757160000@naturgut-coermigk.de
SUMMARY:Kids-AG
DESCRIPTION:Der Igel – wir bauen ein Igel-Überwinterungshaus
URL:https://naturgut-coermigk.de/termine/kids-ag-5/
LOCATION:Naturgut Cörmigk
CATEGORIES:Kids-AG
END:VEVENT
BEGIN:VEVENT
DTSTART;TZID=Europe/Berlin:20250830T100000
DTEND;TZID=Europe/Berlin:20250830T120000
DTSTAMP:20260421T104340
CREATED:20250217T105636Z
LAST-MODIFIED:20250217T105636Z
UID:1194-1756548000-1756555200@naturgut-coermigk.de
SUMMARY:Familien-Yoga
DESCRIPTION:
URL:https://naturgut-coermigk.de/termine/familien-yoga-8/
LOCATION:Naturgut Cörmigk
CATEGORIES:Familien-Yoga
END:VEVENT
BEGIN:VEVENT
DTSTART;TZID=Europe/Berlin:20250816T100000
DTEND;TZID=Europe/Berlin:20250816T120000
DTSTAMP:20260421T104340
CREATED:20250217T105601Z
LAST-MODIFIED:20250217T105601Z
UID:1192-1755338400-1755345600@naturgut-coermigk.de
SUMMARY:Familien-Yoga
DESCRIPTION:
URL:https://naturgut-coermigk.de/termine/familien-yoga-7/
LOCATION:Naturgut Cörmigk
CATEGORIES:Familien-Yoga
END:VEVENT
BEGIN:VEVENT
DTSTART;TZID=Europe/Berlin:20250802T100000
DTEND;TZID=Europe/Berlin:20250802T120000
DTSTAMP:20260421T104340
CREATED:20250216T211639Z
LAST-MODIFIED:20250217T105011Z
UID:1154-1754128800-1754136000@naturgut-coermigk.de
SUMMARY:Kids-AG
DESCRIPTION:Unsere Ponys hautnah erleben und verstehen lernen
URL:https://naturgut-coermigk.de/termine/kids-ag-4/
LOCATION:Naturgut Cörmigk
CATEGORIES:Kids-AG
END:VEVENT
BEGIN:VEVENT
DTSTART;TZID=Europe/Berlin:20250726T100000
DTEND;TZID=Europe/Berlin:20250726T120000
DTSTAMP:20260421T104340
CREATED:20250217T105535Z
LAST-MODIFIED:20250217T105535Z
UID:1190-1753524000-1753531200@naturgut-coermigk.de
SUMMARY:Familien-Yoga
DESCRIPTION:
URL:https://naturgut-coermigk.de/termine/familien-yoga-6/
LOCATION:Naturgut Cörmigk
CATEGORIES:Familien-Yoga
END:VEVENT
BEGIN:VEVENT
DTSTART;TZID=Europe/Berlin:20250719T100000
DTEND;TZID=Europe/Berlin:20250719T160000
DTSTAMP:20260421T104340
CREATED:20250216T204534Z
LAST-MODIFIED:20250216T212545Z
UID:1119-1752919200-1752940800@naturgut-coermigk.de
SUMMARY:Mitmach-Tag Juli
DESCRIPTION:
URL:https://naturgut-coermigk.de/termine/mitmach-tag-juli/
LOCATION:Naturgut Cörmigk
CATEGORIES:Mitmach-Tage
END:VEVENT
BEGIN:VEVENT
DTSTART;TZID=Europe/Berlin:20250712T100000
DTEND;TZID=Europe/Berlin:20250712T120000
DTSTAMP:20260421T104340
CREATED:20250217T105503Z
LAST-MODIFIED:20250217T105503Z
UID:1188-1752314400-1752321600@naturgut-coermigk.de
SUMMARY:Familien-Yoga
DESCRIPTION:
URL:https://naturgut-coermigk.de/termine/familien-yoga-5/
LOCATION:Naturgut Cörmigk
CATEGORIES:Familien-Yoga
END:VEVENT
BEGIN:VEVENT
DTSTART;TZID=Europe/Berlin:20250705T100000
DTEND;TZID=Europe/Berlin:20250705T120000
DTSTAMP:20260421T104340
CREATED:20250216T211606Z
LAST-MODIFIED:20250217T105026Z
UID:1152-1751709600-1751716800@naturgut-coermigk.de
SUMMARY:Kids-AG
DESCRIPTION:Die Katze – eine Räuberin auf Samtpfoten
URL:https://naturgut-coermigk.de/termine/kids-ag-3/
LOCATION:Naturgut Cörmigk
CATEGORIES:Kids-AG
END:VEVENT
BEGIN:VEVENT
DTSTART;TZID=Europe/Berlin:20250621T100000
DTEND;TZID=Europe/Berlin:20250621T120000
DTSTAMP:20260421T104340
CREATED:20250217T105429Z
LAST-MODIFIED:20250217T105429Z
UID:1186-1750500000-1750507200@naturgut-coermigk.de
SUMMARY:Familien-Yoga
DESCRIPTION:
URL:https://naturgut-coermigk.de/termine/familien-yoga-4/
LOCATION:Naturgut Cörmigk
CATEGORIES:Familien-Yoga
END:VEVENT
BEGIN:VEVENT
DTSTART;TZID=Europe/Berlin:20250614T100000
DTEND;TZID=Europe/Berlin:20250614T120000
DTSTAMP:20260421T104340
CREATED:20250217T105349Z
LAST-MODIFIED:20250217T105349Z
UID:1184-1749895200-1749902400@naturgut-coermigk.de
SUMMARY:Familien-Yoga
DESCRIPTION:
URL:https://naturgut-coermigk.de/termine/familien-yoga-3/
LOCATION:Naturgut Cörmigk
CATEGORIES:Familien-Yoga
END:VEVENT
BEGIN:VEVENT
DTSTART;TZID=Europe/Berlin:20250607T100000
DTEND;TZID=Europe/Berlin:20250607T120000
DTSTAMP:20260421T104340
CREATED:20250216T211501Z
LAST-MODIFIED:20250217T105041Z
UID:1150-1749290400-1749297600@naturgut-coermigk.de
SUMMARY:Kids-AG
DESCRIPTION:Mieter*in gesucht: Ein Vogelhaus für unseren Garten
URL:https://naturgut-coermigk.de/termine/kids-ag-2/
LOCATION:Naturgut Cörmigk
CATEGORIES:Kids-AG
END:VEVENT
BEGIN:VEVENT
DTSTART;TZID=Europe/Berlin:20250531T100000
DTEND;TZID=Europe/Berlin:20250531T120000
DTSTAMP:20260421T104340
CREATED:20250217T105254Z
LAST-MODIFIED:20250217T105254Z
UID:1182-1748685600-1748692800@naturgut-coermigk.de
SUMMARY:Familien-Yoga
DESCRIPTION:
URL:https://naturgut-coermigk.de/termine/familien-yoga-2/
CATEGORIES:Familien-Yoga
END:VEVENT
BEGIN:VEVENT
DTSTART;TZID=Europe/Berlin:20250517T100000
DTEND;TZID=Europe/Berlin:20250517T120000
DTSTAMP:20260421T104340
CREATED:20250217T105216Z
LAST-MODIFIED:20250217T105745Z
UID:1180-1747476000-1747483200@naturgut-coermigk.de
SUMMARY:Familien-Yoga
DESCRIPTION:
URL:https://naturgut-coermigk.de/termine/familien-yoga/
LOCATION:Naturgut Cörmigk
CATEGORIES:Familien-Yoga
END:VEVENT
BEGIN:VEVENT
DTSTART;TZID=Europe/Berlin:20250511T140000
DTEND;TZID=Europe/Berlin:20250511T170000
DTSTAMP:20260421T104340
CREATED:20250508T172348Z
LAST-MODIFIED:20250508T172348Z
UID:1216-1746972000-1746982800@naturgut-coermigk.de
SUMMARY:Jungpflanzentauschbörse
DESCRIPTION:Der Frühling ist da und wir GärtnerInnen stehen in den Startlöchern. Doch wie jedes Jahr hat man von manchen Pflänzchen einfach zu viele und von anderen gar keine: Zeit\, zu tauschen! \nDas NaturGut lädt Sie deshalb ein zur ersten Jungpflanzen-Tauschbörse am 11. Mai. Tauschen Sie Ihre Pflanzen mit anderen GartenfreundInnen oder spenden Sie sie an das NaturGut und unterstützen so unseren Projekt-Garten. \nKommen Sie vorbei und lassen Sie uns gemeinsam den Frühling feiern!
URL:https://naturgut-coermigk.de/termine/jungpflanzentauschboerse/
LOCATION:Naturgut Cörmigk
END:VEVENT
BEGIN:VEVENT
DTSTART;TZID=Europe/Berlin:20250510T100000
DTEND;TZID=Europe/Berlin:20250510T160000
DTSTAMP:20260421T104340
CREATED:20250216T204101Z
LAST-MODIFIED:20250216T204353Z
UID:1115-1746871200-1746892800@naturgut-coermigk.de
SUMMARY:Mitmach-Tag Mai
DESCRIPTION:
URL:https://naturgut-coermigk.de/termine/mitmach-tag-2/
LOCATION:Naturgut Cörmigk
CATEGORIES:Mitmach-Tage
END:VEVENT
BEGIN:VEVENT
DTSTART;TZID=Europe/Berlin:20250503T100000
DTEND;TZID=Europe/Berlin:20250503T120000
DTSTAMP:20260421T104340
CREATED:20250216T211308Z
LAST-MODIFIED:20250217T104857Z
UID:1148-1746266400-1746273600@naturgut-coermigk.de
SUMMARY:Kids-AG
DESCRIPTION:Das bunte Krabbeln – Was hat unser Garten mit den Insekten zu tun?
URL:https://naturgut-coermigk.de/termine/kids-ag/
LOCATION:Naturgut Cörmigk
CATEGORIES:Kids-AG
END:VEVENT
BEGIN:VEVENT
DTSTART;TZID=Europe/Berlin:20250308T100000
DTEND;TZID=Europe/Berlin:20250308T160000
DTSTAMP:20260421T104340
CREATED:20250216T202916Z
LAST-MODIFIED:20250216T204411Z
UID:1106-1741428000-1741449600@naturgut-coermigk.de
SUMMARY:Mitmach-Tag März
DESCRIPTION:
URL:https://naturgut-coermigk.de/termine/mitmach-tag/
LOCATION:Naturgut Cörmigk
CATEGORIES:Mitmach-Tage
END:VEVENT
END:VCALENDAR